BEGIN:VCALENDAR
VERSION:2.0
PRODID:-//CLUB D&#039;ENTREPRISES RÉUSSIR - ECPv6.15.20//NONSGML v1.0//EN
CALSCALE:GREGORIAN
METHOD:PUBLISH
X-WR-CALNAME:CLUB D&#039;ENTREPRISES RÉUSSIR
X-ORIGINAL-URL:https://reussir-entreprises.com
X-WR-CALDESC:Évènements pour CLUB D&#039;ENTREPRISES RÉUSSIR
REFRESH-INTERVAL;VALUE=DURATION:PT1H
X-Robots-Tag:noindex
X-PUBLISHED-TTL:PT1H
BEGIN:VTIMEZONE
TZID:Europe/Paris
BEGIN:DAYLIGHT
TZOFFSETFROM:+0100
TZOFFSETTO:+0200
TZNAME:CEST
DTSTART:20250330T010000
END:DAYLIGHT
BEGIN:STANDARD
TZOFFSETFROM:+0200
TZOFFSETTO:+0100
TZNAME:CET
DTSTART:20251026T010000
END:STANDARD
BEGIN:DAYLIGHT
TZOFFSETFROM:+0100
TZOFFSETTO:+0200
TZNAME:CEST
DTSTART:20260329T010000
END:DAYLIGHT
BEGIN:STANDARD
TZOFFSETFROM:+0200
TZOFFSETTO:+0100
TZNAME:CET
DTSTART:20261025T010000
END:STANDARD
BEGIN:DAYLIGHT
TZOFFSETFROM:+0100
TZOFFSETTO:+0200
TZNAME:CEST
DTSTART:20270328T010000
END:DAYLIGHT
BEGIN:STANDARD
TZOFFSETFROM:+0200
TZOFFSETTO:+0100
TZNAME:CET
DTSTART:20271031T010000
END:STANDARD
END:VTIMEZONE
BEGIN:VEVENT
DTSTART;TZID=Europe/Paris:20260521T074500
DTEND;TZID=Europe/Paris:20260521T100000
DTSTAMP:20260421T012920
CREATED:20260420T134748Z
LAST-MODIFIED:20260420T142305Z
UID:5961-1779349500-1779357600@reussir-entreprises.com
SUMMARY:Petit-déjeuner Cybersécurité – Jeudi 21 mai 2026
DESCRIPTION:Le Club organise un petit-déjeuner Cybersécurité le :  \n📅 JEUDI 21 MAI 2026 A PARTIR DE 7H45\n📍 En cours de validation \nPlus d’info à venir
URL:https://reussir-entreprises.com/event/pdej-cybersecurite-21-05-2026/
LOCATION:A définir
CATEGORIES:Petit-déjeuner
ATTACH;FMTTYPE=image/png:https://reussir-entreprises.com/wp-content/uploads/2026/04/IMG-EVENT-LINKEDIN-PDEJ-CYBER-21-05-2026-V0-PAS-DE-LIEU.png
ORGANIZER;CN="Permanence R%C3%A9ussir":MAILTO:permanence@reussir-entreprises.com
END:VEVENT
END:VCALENDAR