BEGIN:VCALENDAR
VERSION:2.0
PRODID:-//CLUB D&#039;ENTREPRISES RÉUSSIR - ECPv6.15.20//NONSGML v1.0//EN
CALSCALE:GREGORIAN
METHOD:PUBLISH
X-ORIGINAL-URL:https://reussir-entreprises.com
X-WR-CALDESC:Évènements pour CLUB D&#039;ENTREPRISES RÉUSSIR
REFRESH-INTERVAL;VALUE=DURATION:PT1H
X-Robots-Tag:noindex
X-PUBLISHED-TTL:PT1H
BEGIN:VTIMEZONE
TZID:Europe/Paris
BEGIN:DAYLIGHT
TZOFFSETFROM:+0100
TZOFFSETTO:+0200
TZNAME:CEST
DTSTART:20250330T010000
END:DAYLIGHT
BEGIN:STANDARD
TZOFFSETFROM:+0200
TZOFFSETTO:+0100
TZNAME:CET
DTSTART:20251026T010000
END:STANDARD
BEGIN:DAYLIGHT
TZOFFSETFROM:+0100
TZOFFSETTO:+0200
TZNAME:CEST
DTSTART:20260329T010000
END:DAYLIGHT
BEGIN:STANDARD
TZOFFSETFROM:+0200
TZOFFSETTO:+0100
TZNAME:CET
DTSTART:20261025T010000
END:STANDARD
BEGIN:DAYLIGHT
TZOFFSETFROM:+0100
TZOFFSETTO:+0200
TZNAME:CEST
DTSTART:20270328T010000
END:DAYLIGHT
BEGIN:STANDARD
TZOFFSETFROM:+0200
TZOFFSETTO:+0100
TZNAME:CET
DTSTART:20271031T010000
END:STANDARD
END:VTIMEZONE
BEGIN:VEVENT
DTSTART;TZID=Europe/Paris:20260120T074500
DTEND;TZID=Europe/Paris:20260120T093000
DTSTAMP:20260421T070839
CREATED:20251217T111904Z
LAST-MODIFIED:20260105T161335Z
UID:5841-1768895100-1768901400@reussir-entreprises.com
SUMMARY:Petit-déjeuner des Vœux – Mardi 20 janvier 2026
DESCRIPTION:Nous accueillerons Joseph CARLES\, Maire de Blagnac et 4ème Vice-Président de Toulouse Métropole\, Didier KATZENMAYER\, Directeur des Affaires Industrielles & Médiateur AIRBUS OPERATION et Président de l’IUMM OCCITANIE\, ainsi que Guillaume FERRERO\, Responsable des services économiques de la BANQUE DE FRANCE. \n📅 MARDI 20 JANVIER 2026 A PARTIR DE 7H45\n📍 HOLIDAY INN TOULOUSE AIRPORT – PLACE DE LA REVOLUTION 31700 BLAGNAC \nTarifs* : \n🔹 16 € pour les adhérents\n🔸 21 € pour les non-adhérents \n*MERCI DE RÉGLER VOTRE INSCRIPTION EN AVANCE PAR VIREMENT\nToute place qui ne sera pas payée en avance ne sera pas prise en considération. \nInscription en envoyant le coupon réponse complété avant le 15/01/2026 à l’adresse suivante :\n➡ permanence@reussir-entreprises.com
URL:https://reussir-entreprises.com/event/voeux-2026/
LOCATION:Holiday Inn Toulouse Airport\, Place de la révolution\, BLAGNAC\, 31700
CATEGORIES:Petit-déjeuner,Voeux du Club
ATTACH;FMTTYPE=image/png:https://reussir-entreprises.com/wp-content/uploads/2025/12/1.png
ORGANIZER;CN="Permanence R%C3%A9ussir":MAILTO:permanence@reussir-entreprises.com
END:VEVENT
END:VCALENDAR