BEGIN:VCALENDAR
VERSION:2.0
PRODID:-//CLUB D&#039;ENTREPRISES RÉUSSIR - ECPv6.15.20//NONSGML v1.0//EN
CALSCALE:GREGORIAN
METHOD:PUBLISH
X-WR-CALNAME:CLUB D&#039;ENTREPRISES RÉUSSIR
X-ORIGINAL-URL:https://reussir-entreprises.com
X-WR-CALDESC:Évènements pour CLUB D&#039;ENTREPRISES RÉUSSIR
REFRESH-INTERVAL;VALUE=DURATION:PT1H
X-Robots-Tag:noindex
X-PUBLISHED-TTL:PT1H
BEGIN:VTIMEZONE
TZID:Europe/Paris
BEGIN:DAYLIGHT
TZOFFSETFROM:+0100
TZOFFSETTO:+0200
TZNAME:CEST
DTSTART:20250330T010000
END:DAYLIGHT
BEGIN:STANDARD
TZOFFSETFROM:+0200
TZOFFSETTO:+0100
TZNAME:CET
DTSTART:20251026T010000
END:STANDARD
BEGIN:DAYLIGHT
TZOFFSETFROM:+0100
TZOFFSETTO:+0200
TZNAME:CEST
DTSTART:20260329T010000
END:DAYLIGHT
BEGIN:STANDARD
TZOFFSETFROM:+0200
TZOFFSETTO:+0100
TZNAME:CET
DTSTART:20261025T010000
END:STANDARD
BEGIN:DAYLIGHT
TZOFFSETFROM:+0100
TZOFFSETTO:+0200
TZNAME:CEST
DTSTART:20270328T010000
END:DAYLIGHT
BEGIN:STANDARD
TZOFFSETFROM:+0200
TZOFFSETTO:+0100
TZNAME:CET
DTSTART:20271031T010000
END:STANDARD
END:VTIMEZONE
BEGIN:VEVENT
DTSTART;TZID=Europe/Paris:20260602T074500
DTEND;TZID=Europe/Paris:20260602T093000
DTSTAMP:20260421T032205
CREATED:20260420T141622Z
LAST-MODIFIED:20260420T142114Z
UID:5991-1780386300-1780392600@reussir-entreprises.com
SUMMARY:Petit-déjeuner « Réforme de la facturation électronique » – Mardi 2 juin 2026
DESCRIPTION:Le Club organise un petit-déjeuner animé par\nla Direction Générale des Finances Publiques sur la : \n« Réforme de la facturation électronique » \n📅 MARDI 2 JUIN 2026 A PARTIR DE 7H45\n📍 HOLIDAY INN TOULOUSE AIRPORT – PLACE DE LA REVOLUTION 31700 BLAGNAC \nPlus d’info à venir \n 
URL:https://reussir-entreprises.com/event/pdej-reforme-facturation-electronique-02-06-2026/
LOCATION:Holiday Inn Toulouse Airport\, Place de la révolution\, BLAGNAC\, 31700
CATEGORIES:Petit-déjeuner
ATTACH;FMTTYPE=image/png:https://reussir-entreprises.com/wp-content/uploads/2026/04/IMG-EVENT-LINKEDIN-PDEJ-FACTURE-ELECTRONIQUE-02-06-2026.png
ORGANIZER;CN="Permanence R%C3%A9ussir":MAILTO:permanence@reussir-entreprises.com
END:VEVENT
BEGIN:VEVENT
DTSTART;TZID=Europe/Paris:20260630T084500
DTEND;TZID=Europe/Paris:20260630T100000
DTSTAMP:20260421T032205
CREATED:20260420T151246Z
LAST-MODIFIED:20260420T151246Z
UID:6007-1782809100-1782813600@reussir-entreprises.com
SUMMARY:Petit-déjeuner « Actualités des marchés de l’énergie » – Mardi 30 juin 2026
DESCRIPTION:Le Club organise un petit-déjeuner avec ENGIE animé par :   \n\nLino BAGNIS\, Sale trader\nJean-Jacques BASCOUL\, Délégué Région Occitanie\nCéline VIGUERIE\, Responsable commercial\nStéphane MUCCIN\, Négociateur commercial\n\n« Actualités des marchés de l’énergie :\nles fondamentaux\, perspectives et les opportunités.\nQuelle stratégie d’achat avec la crise au Moyen-Orient à court et moyen terme ? »\n📅 MARDI 02 JUIN 2026 A PARTIR DE 8H45\n📍 HOLIDAY INN TOULOUSE AIRPORT – PLACE DE LA REVOLUTION 31700 BLAGNAC \nPlus d’info à venir
URL:https://reussir-entreprises.com/event/pdej-actualites-marches-energie-30-06-2026/
LOCATION:Holiday Inn Toulouse Airport\, Place de la révolution\, BLAGNAC\, 31700
CATEGORIES:Petit-déjeuner
ATTACH;FMTTYPE=image/png:https://reussir-entreprises.com/wp-content/uploads/2026/04/IMG-EVENT-LINKEDIN-PDEJ-ENGIE-ACTU-30-06-2026.png
ORGANIZER;CN="Permanence R%C3%A9ussir":MAILTO:permanence@reussir-entreprises.com
END:VEVENT
END:VCALENDAR